BEGIN:VCALENDAR
VERSION:2.0
PRODID:-//TSK Sankt Augustin e.V. - ECPv5.16.1//NONSGML v1.0//EN
CALSCALE:GREGORIAN
METHOD:PUBLISH
X-WR-CALNAME:TSK Sankt Augustin e.V.
X-ORIGINAL-URL:https://www.tanzsportkreis-sankt-augustin.de
X-WR-CALDESC:Veranstaltungen für TSK Sankt Augustin e.V.
BEGIN:VTIMEZONE
TZID:Europe/Berlin
BEGIN:DAYLIGHT
TZOFFSETFROM:+0100
TZOFFSETTO:+0200
TZNAME:CEST
DTSTART:20250330T010000
END:DAYLIGHT
BEGIN:STANDARD
TZOFFSETFROM:+0200
TZOFFSETTO:+0100
TZNAME:CET
DTSTART:20251026T010000
END:STANDARD
END:VTIMEZONE
BEGIN:VEVENT
DTSTART;TZID=Europe/Berlin:20250406T140000
DTEND;TZID=Europe/Berlin:20250406T180000
DTSTAMP:20260420T082748
CREATED:20250107T175635Z
LAST-MODIFIED:20250309T115003Z
UID:7869-1743948000-1743962400@www.tanzsportkreis-sankt-augustin.de
SUMMARY:Linedance-Nachmittag im TSK - Beginner & Improver
DESCRIPTION:Tag der offenen Tür Linedancer für Beginner und Improver. \n 
URL:https://www.tanzsportkreis-sankt-augustin.de/event/linedance-nachmittag-im-tsk-3/
LOCATION:Halle 1 & 2
CATEGORIES:Intern,Workshop
ATTACH;FMTTYPE=image/png:https://www.tanzsportkreis-sankt-augustin.de/wp-content/uploads/2024/05/Logo-LineDance.png
ORGANIZER;CN="TSK%20Sankt%20Augustin%20e.V.":MAILTO:info@tsk-sankt-augustin.de
END:VEVENT
END:VCALENDAR