BEGIN:VCALENDAR
VERSION:2.0
PRODID:-//TSK Sankt Augustin e.V. - ECPv5.16.1//NONSGML v1.0//EN
CALSCALE:GREGORIAN
METHOD:PUBLISH
X-WR-CALNAME:TSK Sankt Augustin e.V.
X-ORIGINAL-URL:https://www.tanzsportkreis-sankt-augustin.de
X-WR-CALDESC:Veranstaltungen für TSK Sankt Augustin e.V.
BEGIN:VTIMEZONE
TZID:Europe/Berlin
BEGIN:DAYLIGHT
TZOFFSETFROM:+0100
TZOFFSETTO:+0200
TZNAME:CEST
DTSTART:20250330T010000
END:DAYLIGHT
BEGIN:STANDARD
TZOFFSETFROM:+0200
TZOFFSETTO:+0100
TZNAME:CET
DTSTART:20251026T010000
END:STANDARD
END:VTIMEZONE
BEGIN:VEVENT
DTSTART;TZID=Europe/Berlin:20250316T110000
DTEND;TZID=Europe/Berlin:20250316T130000
DTSTAMP:20260420T104600
CREATED:20240214T125259Z
LAST-MODIFIED:20250107T175126Z
UID:6493-1742122800-1742130000@www.tanzsportkreis-sankt-augustin.de
SUMMARY:Jahreshauptversammlung - 2025
DESCRIPTION:
URL:https://www.tanzsportkreis-sankt-augustin.de/event/jahreshauptversammlung-2024/
LOCATION:Halle 1\, Am Kreuzeck 2b\, Sankt Augustin\, 53757\, Deutschland
CATEGORIES:Intern
ATTACH;FMTTYPE=image/jpeg:https://www.tanzsportkreis-sankt-augustin.de/wp-content/uploads/2024/02/JHV.jpg
ORGANIZER;CN="TSK%20Sankt%20Augustin%20e.V.":MAILTO:info@tsk-sankt-augustin.de
END:VEVENT
END:VCALENDAR