BEGIN:VCALENDAR
VERSION:2.0
PRODID:-//TSK Sankt Augustin e.V. - ECPv5.16.1//NONSGML v1.0//EN
CALSCALE:GREGORIAN
METHOD:PUBLISH
X-WR-CALNAME:TSK Sankt Augustin e.V.
X-ORIGINAL-URL:https://www.tanzsportkreis-sankt-augustin.de
X-WR-CALDESC:Veranstaltungen für TSK Sankt Augustin e.V.
BEGIN:VTIMEZONE
TZID:Europe/Berlin
BEGIN:DAYLIGHT
TZOFFSETFROM:+0100
TZOFFSETTO:+0200
TZNAME:CEST
DTSTART:20240331T010000
END:DAYLIGHT
BEGIN:STANDARD
TZOFFSETFROM:+0200
TZOFFSETTO:+0100
TZNAME:CET
DTSTART:20241027T010000
END:STANDARD
END:VTIMEZONE
BEGIN:VEVENT
DTSTART;TZID=Europe/Berlin:20240623T150000
DTEND;TZID=Europe/Berlin:20240623T180000
DTSTAMP:20260421T023037
CREATED:20240507T191435Z
LAST-MODIFIED:20240523T161522Z
UID:6811-1719154800-1719165600@www.tanzsportkreis-sankt-augustin.de
SUMMARY:TCT - TSK 10 Tänze Competition Training - Mit Adrian Klisan
DESCRIPTION:Competitiontraining Thema: „Floorcraft & Partnering“ \nAdrian Klisan \nu. a. Vize-Weltmeister Professional Kür Standard\nTanzsporttrainer A Leistungssport Standard DTV/DOSB\nTanzsporttrainer C Leistungssport Latein DTV/DOSB\nWertungsrichter S DTV/DOSB\nWertungsrichter DPV\nWDSF Adjudicator STD/LAT \n \nVor und nach dem Training sind Privatstunden bei Adrian möglich!\nBitte meldet euch dazu beim TSK-Sportwart. \nFür weitere Informationen siehe TCT Hauptseite.
URL:https://www.tanzsportkreis-sankt-augustin.de/event/tct-tsk-10-taenze-competition-training-mit-adrian-klisan/
LOCATION:Halle 1 & 2
CATEGORIES:Fest,Intern,Workshop
ATTACH;FMTTYPE=image/jpeg:https://www.tanzsportkreis-sankt-augustin.de/wp-content/uploads/2024/05/TCT.jpg
ORGANIZER;CN="TSK%20Sankt%20Augustin%20e.V.":MAILTO:info@tsk-sankt-augustin.de
END:VEVENT
END:VCALENDAR