BEGIN:VCALENDAR
VERSION:2.0
PRODID:-//TSK Sankt Augustin e.V. - ECPv5.16.1//NONSGML v1.0//EN
CALSCALE:GREGORIAN
METHOD:PUBLISH
X-WR-CALNAME:TSK Sankt Augustin e.V.
X-ORIGINAL-URL:https://www.tanzsportkreis-sankt-augustin.de
X-WR-CALDESC:Veranstaltungen für TSK Sankt Augustin e.V.
BEGIN:VTIMEZONE
TZID:Europe/Berlin
BEGIN:DAYLIGHT
TZOFFSETFROM:+0100
TZOFFSETTO:+0200
TZNAME:CEST
DTSTART:20220327T010000
END:DAYLIGHT
BEGIN:STANDARD
TZOFFSETFROM:+0200
TZOFFSETTO:+0100
TZNAME:CET
DTSTART:20221030T010000
END:STANDARD
END:VTIMEZONE
BEGIN:VEVENT
DTSTART;TZID=Europe/Berlin:20220312T173000
DTEND;TZID=Europe/Berlin:20220312T193000
DTSTAMP:20260424T202709
CREATED:20220211T113455Z
LAST-MODIFIED:20220217T102453Z
UID:4301-1647106200-1647113400@www.tanzsportkreis-sankt-augustin.de
SUMMARY:Jahreshauptversammlung - 2022
DESCRIPTION:
URL:https://www.tanzsportkreis-sankt-augustin.de/event/jahreshauptversammlung-2022/
LOCATION:Halle 1 & 2
CATEGORIES:Intern
ORGANIZER;CN="Tanzschule%20STEPS%20Siegburg%2C%20Esther%20Dickers":MAILTO:info@tanzschulesteps.de
END:VEVENT
END:VCALENDAR