BEGIN:VCALENDAR
VERSION:2.0
PRODID:-//TSK Sankt Augustin e.V. - ECPv5.16.1//NONSGML v1.0//EN
CALSCALE:GREGORIAN
METHOD:PUBLISH
X-WR-CALNAME:TSK Sankt Augustin e.V.
X-ORIGINAL-URL:https://www.tanzsportkreis-sankt-augustin.de
X-WR-CALDESC:Veranstaltungen für TSK Sankt Augustin e.V.
BEGIN:VTIMEZONE
TZID:Europe/Berlin
BEGIN:DAYLIGHT
TZOFFSETFROM:+0100
TZOFFSETTO:+0200
TZNAME:CEST
DTSTART:20210328T010000
END:DAYLIGHT
BEGIN:STANDARD
TZOFFSETFROM:+0200
TZOFFSETTO:+0100
TZNAME:CET
DTSTART:20211031T010000
END:STANDARD
END:VTIMEZONE
BEGIN:VEVENT
DTSTART;TZID=Europe/Berlin:20210430T220000
DTEND;TZID=Europe/Berlin:20210501T020000
DTSTAMP:20260425T153440
CREATED:20210428T080004Z
LAST-MODIFIED:20210428T082158Z
UID:3160-1619820000-1619834400@www.tanzsportkreis-sankt-augustin.de
SUMMARY:Maiball online - mit Willi Korbmacher
DESCRIPTION:Für alle\, die nicht ganz auf Tradition verzichten wollen! \nAm Freitag\, dem 30. April ab 22:00 Uhr nach dem Onlinetraining findet ein online Maiball per Zoom statt: \nhttps://zoom.us/j/91000115810?pwd=K1JmRHlQSENZZG44SjBTZU5ZMWY0Zz09\nMeeting-ID: 910 0011 5810\nKenncode: TSKTGA05 \nMaiball_2021\n\n	Maiball_2021.pdf\n 
URL:https://www.tanzsportkreis-sankt-augustin.de/event/maiball-online-mit-willi-korbmacher/
CATEGORIES:Fest
ORGANIZER;CN="Tanzschule%20STEPS%20Siegburg%2C%20Esther%20Dickers":MAILTO:info@tanzschulesteps.de
END:VEVENT
END:VCALENDAR